BEGIN:VCALENDAR
VERSION:2.0
PRODID: -//Q4 Inc.//EN
METHOD:PUBLISH
BEGIN:VTIMEZONE
TZID:America/New_York
X-LIC-LOCATION:America/New_York
BEGIN:DAYLIGHT
TZOFFSETFROM:-0500
TZOFFSETTO:-0400
TZNAME:EDT
DTSTART:19700308T020000
RRULE:FREQ=YEARLY;BYMONTH=3;BYDAY=2SU
END:DAYLIGHT
BEGIN:STANDARD
TZOFFSETFROM:-0400
TZOFFSETTO:-0500
TZNAME:EST
DTSTART:19701101T020000
RRULE:FREQ=YEARLY;BYMONTH=11;BYDAY=1SU
END:STANDARD
END:VTIMEZONE
BEGIN:VEVENT
ORGANIZER:MAILTO:ir@fmi.com
DTSTART;TZID="America/New_York":20181127T131500
DTEND;TZID="America/New_York":20181127T171500
LOCATION:
UID:18438d76-905f-4a02-a798-8b5585988e06
DTSTAMP:20260424T183418
SUMMARY:Citi Investment Research 2018 Basic Materials Conference
DESCRIPTION: View More Information: https://investors.fcx.com/investors/presentations/event-details/2018/-Citi-Investment-Research-2018-Basic-Materials-Conference-/default.aspx
URL;VALUE=URI:https://investors.fcx.com/investors/presentations/event-details/2018/-Citi-Investment-Research-2018-Basic-Materials-Conference-/default.aspx
PRIORITY:5
CLASS:PUBLIC
END:VEVENT
END:VCALENDAR
