BEGIN:VCALENDAR
VERSION:2.0
PRODID: -//Q4 Inc.//EN
METHOD:PUBLISH
BEGIN:VTIMEZONE
TZID:America/New_York
X-LIC-LOCATION:America/New_York
BEGIN:DAYLIGHT
TZOFFSETFROM:-0500
TZOFFSETTO:-0400
TZNAME:EDT
DTSTART:19700308T020000
RRULE:FREQ=YEARLY;BYMONTH=3;BYDAY=2SU
END:DAYLIGHT
BEGIN:STANDARD
TZOFFSETFROM:-0400
TZOFFSETTO:-0500
TZNAME:EST
DTSTART:19701101T020000
RRULE:FREQ=YEARLY;BYMONTH=11;BYDAY=1SU
END:STANDARD
END:VTIMEZONE
BEGIN:VEVENT
ORGANIZER:MAILTO:ir@fmi.com
DTSTART;TZID="America/New_York":20180712T110000
DTEND;TZID="America/New_York":20180712T150000
LOCATION:
UID:c3b773a7-c49e-4ad2-b185-a6121a370243
DTSTAMP:20260424T223316
SUMMARY:Conference Call to Discuss Terms of PT-FI Divestment and New Partnership with Inalum
DESCRIPTION: View More Information: https://investors.fcx.com/investors/presentations/event-details/2018/Conference-Call-to-Discuss-Terms-of-PT-FI-Divestment-and-New-Partnership-with-Inalum/default.aspx
URL;VALUE=URI:https://investors.fcx.com/investors/presentations/event-details/2018/Conference-Call-to-Discuss-Terms-of-PT-FI-Divestment-and-New-Partnership-with-Inalum/default.aspx
PRIORITY:5
CLASS:PUBLIC
END:VEVENT
END:VCALENDAR
