BEGIN:VCALENDAR
VERSION:2.0
PRODID: -//Q4 Inc.//EN
METHOD:PUBLISH
BEGIN:VTIMEZONE
TZID:America/New_York
X-LIC-LOCATION:America/New_York
BEGIN:DAYLIGHT
TZOFFSETFROM:-0500
TZOFFSETTO:-0400
TZNAME:EDT
DTSTART:19700308T020000
RRULE:FREQ=YEARLY;BYMONTH=3;BYDAY=2SU
END:DAYLIGHT
BEGIN:STANDARD
TZOFFSETFROM:-0400
TZOFFSETTO:-0500
TZNAME:EST
DTSTART:19701101T020000
RRULE:FREQ=YEARLY;BYMONTH=11;BYDAY=1SU
END:STANDARD
END:VTIMEZONE
BEGIN:VEVENT
ORGANIZER:MAILTO:ir@fmi.com
DTSTART;TZID="America/New_York":20070510T100000
DTEND;TZID="America/New_York":20070510T100000
LOCATION:
UID:83d6acb7-bc23-4a5e-831b-e1c903e2d171
DTSTAMP:20260424T201714
SUMMARY:UBS 2007 Leveraged Finance Conference
DESCRIPTION: View More Information: https://investors.fcx.com/investors/presentations/event-details/2007/UBS-2007-Leveraged-Finance-Conference/default.aspx
URL;VALUE=URI:https://investors.fcx.com/investors/presentations/event-details/2007/UBS-2007-Leveraged-Finance-Conference/default.aspx
PRIORITY:5
CLASS:PUBLIC
END:VEVENT
END:VCALENDAR
