BEGIN:VCALENDAR
VERSION:2.0
PRODID: -//Q4 Inc.//EN
METHOD:PUBLISH
BEGIN:VTIMEZONE
TZID:America/New_York
X-LIC-LOCATION:America/New_York
BEGIN:DAYLIGHT
TZOFFSETFROM:-0500
TZOFFSETTO:-0400
TZNAME:EDT
DTSTART:19700308T020000
RRULE:FREQ=YEARLY;BYMONTH=3;BYDAY=2SU
END:DAYLIGHT
BEGIN:STANDARD
TZOFFSETFROM:-0400
TZOFFSETTO:-0500
TZNAME:EST
DTSTART:19701101T020000
RRULE:FREQ=YEARLY;BYMONTH=11;BYDAY=1SU
END:STANDARD
END:VTIMEZONE
BEGIN:VEVENT
ORGANIZER:MAILTO:ir@fmi.com
DTSTART;TZID="America/New_York":20161206T041000
DTEND;TZID="America/New_York":20161206T041000
LOCATION:
UID:945ed9f6-4de5-40fe-8f05-2f60b7717657
DTSTAMP:20260424T234751
SUMMARY:Cowen and Company Energy & Natural Resources Conference
DESCRIPTION: View More Information: https://investors.fcx.com/investors/presentations/event-details/2016/Cowen-and-Company-Energy--Natural-Resources-Conference/default.aspx
URL;VALUE=URI:https://investors.fcx.com/investors/presentations/event-details/2016/Cowen-and-Company-Energy--Natural-Resources-Conference/default.aspx
PRIORITY:5
CLASS:PUBLIC
END:VEVENT
END:VCALENDAR
