BEGIN:VCALENDAR
VERSION:2.0
PRODID: -//Q4 Inc.//EN
METHOD:PUBLISH
BEGIN:VTIMEZONE
TZID:America/New_York
X-LIC-LOCATION:America/New_York
BEGIN:DAYLIGHT
TZOFFSETFROM:-0500
TZOFFSETTO:-0400
TZNAME:EDT
DTSTART:19700308T020000
RRULE:FREQ=YEARLY;BYMONTH=3;BYDAY=2SU
END:DAYLIGHT
BEGIN:STANDARD
TZOFFSETFROM:-0400
TZOFFSETTO:-0500
TZNAME:EST
DTSTART:19701101T020000
RRULE:FREQ=YEARLY;BYMONTH=11;BYDAY=1SU
END:STANDARD
END:VTIMEZONE
BEGIN:VEVENT
ORGANIZER:MAILTO:ir@fmi.com
DTSTART;TZID="America/New_York":20251023T100000
DTEND;TZID="America/New_York":20251023T120000
LOCATION:
UID:4e3488a6-19bb-4288-b5a3-4dae84163799
DTSTAMP:20260424T201801
SUMMARY:FCX 3Q 2025 Supplementary Financial Data
DESCRIPTION: View More Information: https://investors.fcx.com/investors/presentations/event-details/2025/FCX-3Q-2025/default.aspx
URL;VALUE=URI:https://investors.fcx.com/investors/presentations/event-details/2025/FCX-3Q-2025/default.aspx
PRIORITY:5
CLASS:PUBLIC
END:VEVENT
END:VCALENDAR
