BEGIN:VCALENDAR
VERSION:2.0
PRODID: -//Q4 Inc.//EN
METHOD:PUBLISH
BEGIN:VTIMEZONE
TZID:America/New_York
X-LIC-LOCATION:America/New_York
BEGIN:DAYLIGHT
TZOFFSETFROM:-0500
TZOFFSETTO:-0400
TZNAME:EDT
DTSTART:19700308T020000
RRULE:FREQ=YEARLY;BYMONTH=3;BYDAY=2SU
END:DAYLIGHT
BEGIN:STANDARD
TZOFFSETFROM:-0400
TZOFFSETTO:-0500
TZNAME:EST
DTSTART:19701101T020000
RRULE:FREQ=YEARLY;BYMONTH=11;BYDAY=1SU
END:STANDARD
END:VTIMEZONE
BEGIN:VEVENT
ORGANIZER:MAILTO:ir@fmi.com
DTSTART;TZID="America/New_York":20200424T100000
DTEND;TZID="America/New_York":20200424T113000
LOCATION:
UID:e284f607-8944-47f9-9c1e-d59839ebb7f5
DTSTAMP:20260425T000128
SUMMARY:FCX Revised Operating Plans in Response to COVID-19 Pandemic and 1Q 2020 Conference Call
DESCRIPTION: View More Information: https://investors.fcx.com/investors/presentations/event-details/2020/FCX-1Q-2020-Conference-Call/default.aspx
URL;VALUE=URI:https://investors.fcx.com/investors/presentations/event-details/2020/FCX-1Q-2020-Conference-Call/default.aspx
PRIORITY:5
CLASS:PUBLIC
END:VEVENT
END:VCALENDAR
